BEGIN:VCALENDAR
VERSION:2.0
PRODID:-//Tukios.com/
BEGIN:VEVENT
UID:1a9657eb-c681-4199-9efc-d34eae4cf28c@obits.badgerfuneral.com
DTSTAMP:20260421T012356Z
DTSTART:20260423T210000Z
DTEND:20260423T230000Z
SUMMARY:Visitation
DESCRIPTION:
URL:https://obits.badgerfuneral.com/concetta-silveri
LOCATION:Badger Funeral Home 347 King Street  Littleton MA 01460
GEO:42.5412463;-71.4793305
END:VEVENT
END:VCALENDAR