BEGIN:VCALENDAR
VERSION:2.0
PRODID:-//Tukios.com/
BEGIN:VEVENT
UID:33249613-213b-485e-b6df-6eae0c0778fc@obits.badgerfuneral.com
DTSTAMP:20260421T012356Z
DTSTART:20260424T140000Z
DTEND:20260424T150000Z
SUMMARY:Funeral Service
DESCRIPTION:
URL:https://obits.badgerfuneral.com/concetta-silveri
LOCATION:Badger Funeral Home 347 King Street  Littleton MA 01460
GEO:42.5412463;-71.4793305
END:VEVENT
END:VCALENDAR