BEGIN:VCALENDAR
VERSION:2.0
PRODID:-//Tukios.com/
BEGIN:VEVENT
UID:96425e7d-7cfc-4be6-8e0c-fc72cf22b124@obits.badgerfuneral.com
DTSTAMP:20260424T022559Z
DTSTART:20260530T150000Z
DTEND:20260530T180000Z
SUMMARY:Celebration of Life
DESCRIPTION:
URL:https://obits.badgerfuneral.com/edward-scioli
LOCATION:Orchard Church 130 Littleton Road  Westford MA 01886
GEO:42.5679164;-71.4170186
END:VEVENT
END:VCALENDAR